BEGIN:VCALENDAR
VERSION:2.0
PRODID:-//Tukios.com/
BEGIN:VEVENT
UID:79cc260a-e3cd-405a-9f73-d5046924d788@www.pagenkopf.com
DTSTAMP:20260424T160915Z
DTSTART:20260502T170000Z
DTEND:20260502T180000Z
SUMMARY:Mass
DESCRIPTION:
URL:https://www.pagenkopf.com/obituaries/william-sidesky
LOCATION: W359N8512 Brown Street  Oconomowoc WI 53066
GEO:43.1748295;-88.4583449
END:VEVENT
END:VCALENDAR