BEGIN:VCALENDAR
VERSION:2.0
PRODID:-//Tukios.com/
BEGIN:VEVENT
UID:4947cd96-30f0-4007-ae1a-f463c9689a51@www.pagenkopf.com
DTSTAMP:20260424T160711Z
DTSTART:20260502T153000Z
DTEND:20260502T170000Z
SUMMARY:Visitation
DESCRIPTION:
URL:https://www.pagenkopf.com/obituaries/william-sidesky
LOCATION: W359N8512 Brown Street  Oconomowoc WI 53066
GEO:43.1748295;-88.4583449
END:VEVENT
END:VCALENDAR