BEGIN:VCALENDAR
VERSION:2.0
PRODID:-//Tukios.com/
BEGIN:VEVENT
UID:dd04a8f9-3d64-4168-94a0-4b71b0be4e4d@www.pagenkopf.com
DTSTAMP:20260422T201045Z
DTSTART:20260517T190000Z
DTEND:20260517T200000Z
SUMMARY:Celebration of Life
DESCRIPTION:
URL:https://www.pagenkopf.com/obituaries/peter-tellier
LOCATION: 6250 Wisconsin 83  Hartland WI 53029
GEO:43.1328412;-88.3700817
END:VEVENT
END:VCALENDAR