BEGIN:VCALENDAR
VERSION:2.0
PRODID:-//Tukios.com/
BEGIN:VEVENT
UID:fd554a0c-17a8-41c3-80e4-27f04b148194@www.pagenkopf.com
DTSTAMP:20260421T234907Z
DTSTART:20260501T190000Z
DTEND:20260501T210000Z
SUMMARY:Visitation
DESCRIPTION:
URL:https://www.pagenkopf.com/obituaries/john-muschinski
LOCATION: 2228 Silver Maple Ln  Oconomowoc WI 53066
GEO:43.061149;-88.465343
END:VEVENT
END:VCALENDAR