BEGIN:VCALENDAR
VERSION:2.0
PRODID:-//Tukios.com/
BEGIN:VEVENT
UID:50e27adf-5975-4eca-9756-c6dcd2176c8d@www.pagenkopf.com
DTSTAMP:20260421T024850Z
DTSTART:20260509T010000Z
DTEND:20260509T030000Z
SUMMARY:Celebration of Life
DESCRIPTION:
URL:https://www.pagenkopf.com/obituaries/debra-flannery
LOCATION: 220 West Wisconsin Avenue  Oconomowoc WI 53066
GEO:43.1120512;-88.5017159
END:VEVENT
END:VCALENDAR