BEGIN:VCALENDAR
VERSION:2.0
PRODID:-//Tukios.com/
BEGIN:VEVENT
UID:2306d6be-d3ff-4d16-a6ac-499e19548bd5@www.pagenkopf.com
DTSTAMP:20260421T024503Z
DTSTART:20260509T000000Z
DTEND:20260509T010000Z
SUMMARY:Memorial Service
DESCRIPTION:
URL:https://www.pagenkopf.com/obituaries/debra-flannery
LOCATION: 220 West Wisconsin Avenue  Oconomowoc WI 53066
GEO:43.1120512;-88.5017159
END:VEVENT
END:VCALENDAR