BEGIN:VCALENDAR
VERSION:2.0
PRODID:-//Tukios.com/
BEGIN:VEVENT
UID:19f90b12-74ee-439a-ad62-e94f7ada5c4c@www.pagenkopf.com
DTSTAMP:20260421T024717Z
DTSTART:20260508T210000Z
DTEND:20260509T000000Z
SUMMARY:Visitation
DESCRIPTION:
URL:https://www.pagenkopf.com/obituaries/debra-flannery
LOCATION: 220 West Wisconsin Avenue  Oconomowoc WI 53066
GEO:43.1120512;-88.5017159
END:VEVENT
END:VCALENDAR